BEGIN:VCALENDAR
VERSION:2.0
PRODID:-//Wyatt&#039;s Wet Goods - ECPv6.15.20//NONSGML v1.0//EN
CALSCALE:GREGORIAN
METHOD:PUBLISH
X-WR-CALNAME:Wyatt&#039;s Wet Goods
X-ORIGINAL-URL:https://wyattswetgoods.com
X-WR-CALDESC:Events for Wyatt&#039;s Wet Goods
REFRESH-INTERVAL;VALUE=DURATION:PT1H
X-Robots-Tag:noindex
X-PUBLISHED-TTL:PT1H
BEGIN:VTIMEZONE
TZID:America/Denver
BEGIN:DAYLIGHT
TZOFFSETFROM:-0700
TZOFFSETTO:-0600
TZNAME:MDT
DTSTART:20250309T090000
END:DAYLIGHT
BEGIN:STANDARD
TZOFFSETFROM:-0600
TZOFFSETTO:-0700
TZNAME:MST
DTSTART:20251102T080000
END:STANDARD
BEGIN:DAYLIGHT
TZOFFSETFROM:-0700
TZOFFSETTO:-0600
TZNAME:MDT
DTSTART:20260308T090000
END:DAYLIGHT
BEGIN:STANDARD
TZOFFSETFROM:-0600
TZOFFSETTO:-0700
TZNAME:MST
DTSTART:20261101T080000
END:STANDARD
BEGIN:DAYLIGHT
TZOFFSETFROM:-0700
TZOFFSETTO:-0600
TZNAME:MDT
DTSTART:20270314T090000
END:DAYLIGHT
BEGIN:STANDARD
TZOFFSETFROM:-0600
TZOFFSETTO:-0700
TZNAME:MST
DTSTART:20271107T080000
END:STANDARD
END:VTIMEZONE
BEGIN:VEVENT
DTSTART;TZID=America/Denver:20260221T120000
DTEND;TZID=America/Denver:20260221T150000
DTSTAMP:20260420T085653
CREATED:20260127T173500Z
LAST-MODIFIED:20260127T230657Z
UID:33778-1771675200-1771686000@wyattswetgoods.com
SUMMARY:Girl Scout Cookie and Wine Pairing
DESCRIPTION:Event Date: \n\n\n\n\n\n\n\nPrice: \n\n\n\n\n\n\n\n\n\n\nIt’s that time of year again! One of our favorite tasting events. On February 21st\, join us for our Girl Scout Cookie and Wine Pairing. \n\n\n\n\n\n\n\n\n\nEvent is Free\, but is restricted to individuals of legal drinking age (21+)\, and a current photo ID is required for all participants. \n\n\n\nTasting will be provided at the tasting bar in the rear of the store.
URL:https://wyattswetgoods.com/event/girl-scout-cookie-and-wine-pairing/
CATEGORIES:In-Store Event,Tasting
ATTACH;FMTTYPE=image/jpeg:https://wyattswetgoods.com/wp-content/uploads/chocolate-ship-cookies-2560w.avif
END:VEVENT
END:VCALENDAR