BEGIN:VCALENDAR
VERSION:2.0
PRODID:-//Wyatt&#039;s Wet Goods - ECPv6.15.20//NONSGML v1.0//EN
CALSCALE:GREGORIAN
METHOD:PUBLISH
X-ORIGINAL-URL:https://wyattswetgoods.com
X-WR-CALDESC:Events for Wyatt&#039;s Wet Goods
REFRESH-INTERVAL;VALUE=DURATION:PT1H
X-Robots-Tag:noindex
X-PUBLISHED-TTL:PT1H
BEGIN:VTIMEZONE
TZID:America/Denver
BEGIN:DAYLIGHT
TZOFFSETFROM:-0700
TZOFFSETTO:-0600
TZNAME:MDT
DTSTART:20250309T090000
END:DAYLIGHT
BEGIN:STANDARD
TZOFFSETFROM:-0600
TZOFFSETTO:-0700
TZNAME:MST
DTSTART:20251102T080000
END:STANDARD
BEGIN:DAYLIGHT
TZOFFSETFROM:-0700
TZOFFSETTO:-0600
TZNAME:MDT
DTSTART:20260308T090000
END:DAYLIGHT
BEGIN:STANDARD
TZOFFSETFROM:-0600
TZOFFSETTO:-0700
TZNAME:MST
DTSTART:20261101T080000
END:STANDARD
BEGIN:DAYLIGHT
TZOFFSETFROM:-0700
TZOFFSETTO:-0600
TZNAME:MDT
DTSTART:20270314T090000
END:DAYLIGHT
BEGIN:STANDARD
TZOFFSETFROM:-0600
TZOFFSETTO:-0700
TZNAME:MST
DTSTART:20271107T080000
END:STANDARD
END:VTIMEZONE
BEGIN:VEVENT
DTSTART;TZID=America/Denver:20260206T163000
DTEND;TZID=America/Denver:20260206T183000
DTSTAMP:20260420T040919
CREATED:20260127T171000Z
LAST-MODIFIED:20260127T223937Z
UID:33769-1770395400-1770402600@wyattswetgoods.com
SUMMARY:First Friday Tasting Left Hand Brewing and Dry Dock Brewing
DESCRIPTION:Event Date: \n\n\n\n\n\n\n\nPrice: \n\n\n\n\n\n\n\n\n\n\nFor our First Friday Tasting on February 6th\, we’ll be sampling some selections from Left Hand Brewing as well as Dry Dock Brewing. Two Colorado Craft Beer favorites\, you don’t want to miss this beer tasting. \n\n\n\n\n\n\n\n\n\nEvent is Free\, but is restricted to individuals of legal drinking age (21+)\, and a current photo ID is required for all participants. \n\n\n\nTasting will be provided at the tasting bar in the rear of the store.
URL:https://wyattswetgoods.com/event/first-friday-tasting-left-hand-brewing-and-dry-dock-brewing/
CATEGORIES:In-Store Event,Tasting
ATTACH;FMTTYPE=image/webp:https://wyattswetgoods.com/wp-content/uploads/left-hand-brewing-milk-stout-in-glass.webp
END:VEVENT
BEGIN:VEVENT
DTSTART;TZID=America/Denver:20260207T000000
DTEND;TZID=America/Denver:20260207T235959
DTSTAMP:20260420T040919
CREATED:20260119T230227Z
LAST-MODIFIED:20260127T230146Z
UID:33709-1770422400-1770508799@wyattswetgoods.com
SUMMARY:Rare Whiskey Auction 2026
DESCRIPTION:Event Date & Time: February 7th at 1PM\n\n\n\nIt’s the time of year again for our Rare Whiskey Auction. Stop by Wyatt’s for your chance to bid on some of the rarest whiskeys and support these great local organizations: \n\n\n\n\nVeterans Community Project\n\n\n\nPearl Promise\n\n\n\nLoveland Veterans Honor Monument\n\n\n\nSkyline Kiwanis\n\n\n\n\n\n\n\n\nRegistration Begins At 12PM and the Auction Live Paddle Raise begins at 1PM. You don’t want to miss out\, so make sure you arrive on time! \n\n\n\nOJ Pratt will be Officiating! \n\n\n\nParticipation in the event is Free\, but is restricted to individuals of legal drinking age (21+)\, and a current photo ID is required for all participants/registrants.
URL:https://wyattswetgoods.com/event/rare-whiskey-auction-2026/
CATEGORIES:In-Store Event,Tasting
ATTACH;FMTTYPE=image/webp:https://wyattswetgoods.com/wp-content/uploads/pappy-family-bourbon-15-year-v2-scaled.webp
END:VEVENT
BEGIN:VEVENT
DTSTART;TZID=America/Denver:20260214T120000
DTEND;TZID=America/Denver:20260214T150000
DTSTAMP:20260420T040919
CREATED:20260127T172500Z
LAST-MODIFIED:20260205T215602Z
UID:33773-1771070400-1771081200@wyattswetgoods.com
SUMMARY:Wyatt's LOVES Mardi Gras Party and Tasting
DESCRIPTION:Event Date: \n\n\n\n\n\n\n\nPrice: \n\n\n\n\n\n\n\n\n\n\nCome join us on February 14th for our Wyatt’s LOVES Mardi Gras\, Fat Tuesday Style Party and Tasting. We’ll be sharing some selections that are a must have for your Mardi Gras and Valentine’s Day celebrations. \n\n\n\nWe’ll also have food samples from Back Alley Bayou\, Beads and Fun! \n\n\n\n\n\n\n\n\n\nEvent is Free\, but is restricted to individuals of legal drinking age (21+)\, and a current photo ID is required for all participants. \n\n\n\nTasting will be provided at the tasting bar in the rear of the store.
URL:https://wyattswetgoods.com/event/wyatts-loves-mardi-gras-party-and-tasting/
CATEGORIES:In-Store Event,Tasting
ATTACH;FMTTYPE=image/webp:https://wyattswetgoods.com/wp-content/uploads/mardi-gras-masks-llanydd-lloyd-5kL77tAHTqQ-unsplash.webp
END:VEVENT
BEGIN:VEVENT
DTSTART;TZID=America/Denver:20260221T120000
DTEND;TZID=America/Denver:20260221T150000
DTSTAMP:20260420T040919
CREATED:20260127T173500Z
LAST-MODIFIED:20260127T230657Z
UID:33778-1771675200-1771686000@wyattswetgoods.com
SUMMARY:Girl Scout Cookie and Wine Pairing
DESCRIPTION:Event Date: \n\n\n\n\n\n\n\nPrice: \n\n\n\n\n\n\n\n\n\n\nIt’s that time of year again! One of our favorite tasting events. On February 21st\, join us for our Girl Scout Cookie and Wine Pairing. \n\n\n\n\n\n\n\n\n\nEvent is Free\, but is restricted to individuals of legal drinking age (21+)\, and a current photo ID is required for all participants. \n\n\n\nTasting will be provided at the tasting bar in the rear of the store.
URL:https://wyattswetgoods.com/event/girl-scout-cookie-and-wine-pairing/
CATEGORIES:In-Store Event,Tasting
ATTACH;FMTTYPE=image/jpeg:https://wyattswetgoods.com/wp-content/uploads/chocolate-ship-cookies-2560w.avif
END:VEVENT
BEGIN:VEVENT
DTSTART;TZID=America/Denver:20260228T120000
DTEND;TZID=America/Denver:20260228T150000
DTSTAMP:20260420T040919
CREATED:20260127T174000Z
LAST-MODIFIED:20260205T230439Z
UID:33819-1772280000-1772290800@wyattswetgoods.com
SUMMARY:Where the Wild Things Are Wine Tasting
DESCRIPTION:Event Date: \n\n\n\n\n\n\n\nPrice: \n\n\n\n\n\n\n\n\n\n\nJoin us on February 28th for a Wine Tasting in which we’ll be sampling some wines that feature Animals on the labels. \n\n\n\n\n\n\n\n\n\nEvent is Free\, but is restricted to individuals of legal drinking age (21+)\, and a current photo ID is required for all participants. \n\n\n\nTasting will be provided at the tasting bar in the rear of the store.
URL:https://wyattswetgoods.com/event/where-the-wild-things-are-wine-tasting/
CATEGORIES:In-Store Event,Tasting
ATTACH;FMTTYPE=image/webp:https://wyattswetgoods.com/wp-content/uploads/wine-bottles.webp
END:VEVENT
END:VCALENDAR